BEGIN:VCALENDAR
VERSION:2.0
PRODID:-//Stanford Law School - ECPv6.15.17.1//NONSGML v1.0//EN
CALSCALE:GREGORIAN
METHOD:PUBLISH
X-WR-CALNAME:Stanford Law School
X-ORIGINAL-URL:https://law.stanford.edu
X-WR-CALDESC:Events for Stanford Law School
REFRESH-INTERVAL;VALUE=DURATION:PT1H
X-Robots-Tag:noindex
X-PUBLISHED-TTL:PT1H
BEGIN:VTIMEZONE
TZID:America/Los_Angeles
BEGIN:DAYLIGHT
TZOFFSETFROM:-0800
TZOFFSETTO:-0700
TZNAME:PDT
DTSTART:20240310T100000
END:DAYLIGHT
BEGIN:STANDARD
TZOFFSETFROM:-0700
TZOFFSETTO:-0800
TZNAME:PST
DTSTART:20241103T090000
END:STANDARD
BEGIN:DAYLIGHT
TZOFFSETFROM:-0800
TZOFFSETTO:-0700
TZNAME:PDT
DTSTART:20250309T100000
END:DAYLIGHT
BEGIN:STANDARD
TZOFFSETFROM:-0700
TZOFFSETTO:-0800
TZNAME:PST
DTSTART:20251102T090000
END:STANDARD
BEGIN:DAYLIGHT
TZOFFSETFROM:-0800
TZOFFSETTO:-0700
TZNAME:PDT
DTSTART:20260308T100000
END:DAYLIGHT
BEGIN:STANDARD
TZOFFSETFROM:-0700
TZOFFSETTO:-0800
TZNAME:PST
DTSTART:20261101T090000
END:STANDARD
END:VTIMEZONE
BEGIN:VEVENT
DTSTART;TZID=America/Los_Angeles:20251110T130000
DTEND;TZID=America/Los_Angeles:20251110T140000
DTSTAMP:20260421T090003
CREATED:20251002T211838Z
LAST-MODIFIED:20251002T211838Z
UID:546525-1762779600-1762783200@law.stanford.edu
SUMMARY:Class of 2026: Clerkships – Applying as a 3Ls or Alum?
DESCRIPTION:Whether you’ve already started applying and are still looking or haven’t even begun your clerkship search yet\, we can help with logistics and strategy. Bring your lunch and join us to talk about applying as a 3L or alum when the hiring plan no longer governs your application timing.\n\nhttps://law.stanford.edu/event/class-of-2026-clerkships-applying-as-a-3ls-or-alum/\n\nThis is a Stanford Law School private/or invitation only event.
URL:https://law.stanford.edu/event/class-of-2026-clerkships-applying-as-a-3ls-or-alum/
LOCATION:@ SLS: Room 180\, Crown Quadrangle 559 Nathan Abbott Way\, Stanford\, CA\, 94305-8610\, United States
CATEGORIES:Workshop
GEO:37.424106;-122.1660756
X-APPLE-STRUCTURED-LOCATION;VALUE=URI;X-ADDRESS=@ SLS: Room 180 Crown Quadrangle 559 Nathan Abbott Way Stanford CA 94305-8610 United States;X-APPLE-RADIUS=500;X-TITLE=Crown Quadrangle 559 Nathan Abbott Way:geo:-122.1660756,37.424106
END:VEVENT
END:VCALENDAR