BEGIN:VCALENDAR
VERSION:2.0
PRODID:-//Stanford Law School - ECPv6.15.17.1//NONSGML v1.0//EN
CALSCALE:GREGORIAN
METHOD:PUBLISH
X-WR-CALNAME:Stanford Law School
X-ORIGINAL-URL:https://law.stanford.edu
X-WR-CALDESC:Events for Stanford Law School
REFRESH-INTERVAL;VALUE=DURATION:PT1H
X-Robots-Tag:noindex
X-PUBLISHED-TTL:PT1H
BEGIN:VTIMEZONE
TZID:America/Los_Angeles
BEGIN:DAYLIGHT
TZOFFSETFROM:-0800
TZOFFSETTO:-0700
TZNAME:PDT
DTSTART:20250309T100000
END:DAYLIGHT
BEGIN:STANDARD
TZOFFSETFROM:-0700
TZOFFSETTO:-0800
TZNAME:PST
DTSTART:20251102T090000
END:STANDARD
BEGIN:DAYLIGHT
TZOFFSETFROM:-0800
TZOFFSETTO:-0700
TZNAME:PDT
DTSTART:20260308T100000
END:DAYLIGHT
BEGIN:STANDARD
TZOFFSETFROM:-0700
TZOFFSETTO:-0800
TZNAME:PST
DTSTART:20261101T090000
END:STANDARD
BEGIN:DAYLIGHT
TZOFFSETFROM:-0800
TZOFFSETTO:-0700
TZNAME:PDT
DTSTART:20270314T100000
END:DAYLIGHT
BEGIN:STANDARD
TZOFFSETFROM:-0700
TZOFFSETTO:-0800
TZNAME:PST
DTSTART:20271107T090000
END:STANDARD
END:VTIMEZONE
BEGIN:VEVENT
DTSTART;TZID=America/Los_Angeles:20260428T163000
DTEND;TZID=America/Los_Angeles:20260428T182000
DTSTAMP:20260425T180522
CREATED:20260420T234934Z
LAST-MODIFIED:20260420T234934Z
UID:564686-1777393800-1777400400@law.stanford.edu
SUMMARY:CLB Law and Biosciences Workshop Seminar
DESCRIPTION:Join the CLB for our fourth workshop seminar of the Spring Quarter. Professor Kayte Spector-Bagdady\, George E. Wantz Professor of Bioethics and an Associate Professor of Obstetrics and Gynecology at the University of Michigan Medical School\, will discuss her research with a talk on “Identifying Identifiability: Normative Standards to Inform Novel Predictive Risk Analysis for Health Data Privacy”. \n \n\nhttps://law.stanford.edu/event/clb-law-and-biosciences-workshop-seminar-9/\n\nThis event is open to the public.
URL:https://law.stanford.edu/event/clb-law-and-biosciences-workshop-seminar-9/
LOCATION:@ SLS: Room 185\, Crown Quadrangle 559 Nathan Abbott Way\, Stanford\, CA\, 94305-8610\, United States
CATEGORIES:Speaker,Workshop
GEO:37.424106;-122.1660756
X-APPLE-STRUCTURED-LOCATION;VALUE=URI;X-ADDRESS=@ SLS: Room 185 Crown Quadrangle 559 Nathan Abbott Way Stanford CA 94305-8610 United States;X-APPLE-RADIUS=500;X-TITLE=Crown Quadrangle 559 Nathan Abbott Way:geo:-122.1660756,37.424106
END:VEVENT
END:VCALENDAR