BEGIN:VCALENDAR
VERSION:2.0
PRODID:-//Stanford Law School - ECPv6.15.17.1//NONSGML v1.0//EN
CALSCALE:GREGORIAN
METHOD:PUBLISH
X-WR-CALNAME:Stanford Law School
X-ORIGINAL-URL:https://law.stanford.edu
X-WR-CALDESC:Events for Stanford Law School
REFRESH-INTERVAL;VALUE=DURATION:PT1H
X-Robots-Tag:noindex
X-PUBLISHED-TTL:PT1H
BEGIN:VTIMEZONE
TZID:America/Los_Angeles
BEGIN:DAYLIGHT
TZOFFSETFROM:-0800
TZOFFSETTO:-0700
TZNAME:PDT
DTSTART:20250309T100000
END:DAYLIGHT
BEGIN:STANDARD
TZOFFSETFROM:-0700
TZOFFSETTO:-0800
TZNAME:PST
DTSTART:20251102T090000
END:STANDARD
BEGIN:DAYLIGHT
TZOFFSETFROM:-0800
TZOFFSETTO:-0700
TZNAME:PDT
DTSTART:20260308T100000
END:DAYLIGHT
BEGIN:STANDARD
TZOFFSETFROM:-0700
TZOFFSETTO:-0800
TZNAME:PST
DTSTART:20261101T090000
END:STANDARD
BEGIN:DAYLIGHT
TZOFFSETFROM:-0800
TZOFFSETTO:-0700
TZNAME:PDT
DTSTART:20270314T100000
END:DAYLIGHT
BEGIN:STANDARD
TZOFFSETFROM:-0700
TZOFFSETTO:-0800
TZNAME:PST
DTSTART:20271107T090000
END:STANDARD
END:VTIMEZONE
BEGIN:VEVENT
DTSTART;TZID=America/Los_Angeles:20260425T100000
DTEND;TZID=America/Los_Angeles:20260425T104500
DTSTAMP:20260422T021521
CREATED:20260421T232423Z
LAST-MODIFIED:20260421T235028Z
UID:564898-1777111200-1777113900@law.stanford.edu
SUMMARY:Coffee with Justice Josh Groban of the California Supreme Court
DESCRIPTION:Join ACS for an intimate coffee chat with Justice Josh Groban of the California Supreme Court. Justice Groban began serving on the California Supreme Court in January 2019. Previously he was the Senior Advisor to Governor Jerry Brown and advised the governor on judicial appointments\, legal policy and legislative issues. Justice Groban advised the governor on the appointment of over 600 judges\, or roughly one out of every three judges in the state.\n\nhttps://law.stanford.edu/event/coffee-with-justice-josh-groban-of-the-california-supreme-court/\n\nThis event is open to the public.\n\nRSVP: https://forms.gle/xSYqaztHFK2Z7zUX9
URL:https://law.stanford.edu/event/coffee-with-justice-josh-groban-of-the-california-supreme-court/
LOCATION:@ SLS: Room 301B\, Crown Quadrangle\, 559 Nathan Abbott Way\, Stanford\, CA\, 94305-8610\, United States
CATEGORIES:Panels
END:VEVENT
END:VCALENDAR