BEGIN:VCALENDAR
VERSION:2.0
PRODID:-//Stanford Law School - ECPv6.15.17.1//NONSGML v1.0//EN
CALSCALE:GREGORIAN
METHOD:PUBLISH
X-WR-CALNAME:Stanford Law School
X-ORIGINAL-URL:https://law.stanford.edu
X-WR-CALDESC:Events for Stanford Law School
REFRESH-INTERVAL;VALUE=DURATION:PT1H
X-Robots-Tag:noindex
X-PUBLISHED-TTL:PT1H
BEGIN:VTIMEZONE
TZID:America/Los_Angeles
BEGIN:DAYLIGHT
TZOFFSETFROM:-0800
TZOFFSETTO:-0700
TZNAME:PDT
DTSTART:20240310T100000
END:DAYLIGHT
BEGIN:STANDARD
TZOFFSETFROM:-0700
TZOFFSETTO:-0800
TZNAME:PST
DTSTART:20241103T090000
END:STANDARD
BEGIN:DAYLIGHT
TZOFFSETFROM:-0800
TZOFFSETTO:-0700
TZNAME:PDT
DTSTART:20250309T100000
END:DAYLIGHT
BEGIN:STANDARD
TZOFFSETFROM:-0700
TZOFFSETTO:-0800
TZNAME:PST
DTSTART:20251102T090000
END:STANDARD
BEGIN:DAYLIGHT
TZOFFSETFROM:-0800
TZOFFSETTO:-0700
TZNAME:PDT
DTSTART:20260308T100000
END:DAYLIGHT
BEGIN:STANDARD
TZOFFSETFROM:-0700
TZOFFSETTO:-0800
TZNAME:PST
DTSTART:20261101T090000
END:STANDARD
END:VTIMEZONE
BEGIN:VEVENT
DTSTART;TZID=America/Los_Angeles:20251113T125000
DTEND;TZID=America/Los_Angeles:20251113T140000
DTSTAMP:20260422T121935
CREATED:20251010T235038Z
LAST-MODIFIED:20251010T235038Z
UID:547404-1763038200-1763042400@law.stanford.edu
SUMMARY:Covington x SESLA Panel
DESCRIPTION:Join the Stanford Entertainment and Sports Law Association for a panel discussion with attorneys from Covington & Burling about careers in sports and entertainment law. Lunch will be served!\n\nhttps://law.stanford.edu/event/covington-x-sesla-panel/\n\nThis event is open to the Stanford community.\n\nRSVP: https://docs.google.com/forms/d/e/1FAIpQLSdq3fbFnN48zsXRzn18_9SzRVTucU-Mt71yEVcg50dpAaGcaQ/viewform?usp=header
URL:https://law.stanford.edu/event/covington-x-sesla-panel/
LOCATION:@ SLS: Room 280A\, Crown Quadrangle\, 559 Nathan Abbott Way\, Stanford\, CA\, 94305-8610\, United States
CATEGORIES:Alumni,Lunchtime Speakers,Panels,Speaker,Student Organizations
GEO:37.424106;-122.1660756
X-APPLE-STRUCTURED-LOCATION;VALUE=URI;X-ADDRESS=@ SLS: Room 280A Crown Quadrangle 559 Nathan Abbott Way Stanford CA 94305-8610 United States;X-APPLE-RADIUS=500;X-TITLE=Crown Quadrangle\, 559 Nathan Abbott Way:geo:-122.1660756,37.424106
END:VEVENT
END:VCALENDAR