BEGIN:VCALENDAR
VERSION:2.0
PRODID:-//Stanford Law School - ECPv6.15.17.1//NONSGML v1.0//EN
CALSCALE:GREGORIAN
METHOD:PUBLISH
X-WR-CALNAME:Stanford Law School
X-ORIGINAL-URL:https://law.stanford.edu
X-WR-CALDESC:Events for Stanford Law School
REFRESH-INTERVAL;VALUE=DURATION:PT1H
X-Robots-Tag:noindex
X-PUBLISHED-TTL:PT1H
BEGIN:VTIMEZONE
TZID:America/Los_Angeles
BEGIN:DAYLIGHT
TZOFFSETFROM:-0800
TZOFFSETTO:-0700
TZNAME:PDT
DTSTART:20250309T100000
END:DAYLIGHT
BEGIN:STANDARD
TZOFFSETFROM:-0700
TZOFFSETTO:-0800
TZNAME:PST
DTSTART:20251102T090000
END:STANDARD
BEGIN:DAYLIGHT
TZOFFSETFROM:-0800
TZOFFSETTO:-0700
TZNAME:PDT
DTSTART:20260308T100000
END:DAYLIGHT
BEGIN:STANDARD
TZOFFSETFROM:-0700
TZOFFSETTO:-0800
TZNAME:PST
DTSTART:20261101T090000
END:STANDARD
BEGIN:DAYLIGHT
TZOFFSETFROM:-0800
TZOFFSETTO:-0700
TZNAME:PDT
DTSTART:20270314T100000
END:DAYLIGHT
BEGIN:STANDARD
TZOFFSETFROM:-0700
TZOFFSETTO:-0800
TZNAME:PST
DTSTART:20271107T090000
END:STANDARD
END:VTIMEZONE
BEGIN:VEVENT
DTSTART;TZID=America/Los_Angeles:20260512T124500
DTEND;TZID=America/Los_Angeles:20260512T140000
DTSTAMP:20260422T142753
CREATED:20260319T120909Z
LAST-MODIFIED:20260327T223303Z
UID:561626-1778589900-1778594400@law.stanford.edu
SUMMARY:Elements of Policy Analysis Workshop: Using AI to Organize Research\, Outline a Draft and Identify Gaps
DESCRIPTION:Tame the chaos: efficiently move from research overload to targeted first draft with AI. In this session\, you’ll identify practical ways AI can help organize research materials and pinpoint themes; use AI to generate a working outline from notes\, sources\, or earlier drafts; and efficiently engage with AI to identify gaps\, missing authorities\, or areas needing deeper research from a working draft of a research paper. \nThis workshop will be taught by Will Huggins\, Assoc. Director of Head of Library Technology & Innovation\, and Taryn Marks\, SLS Reference Librarian.\n\nhttps://law.stanford.edu/event/elements-of-policy-analysis-workshop-using-ai-to-organize-research-outline-a-draft-and-identify-gaps/\n\nThis event is open to the Stanford community.\n\nPlease RSVP Here: https://docs.google.com/forms/d/e/1FAIpQLSe8bKpttUG65EIbGIs1f7jWB8MuXCltaR6BcVWXAdxxMA4yoQ/viewform?usp=dialog
URL:https://law.stanford.edu/event/elements-of-policy-analysis-workshop-using-ai-to-organize-research-outline-a-draft-and-identify-gaps/
LOCATION:Online
CATEGORIES:Workshop
ORGANIZER;CN="Law and Policy Lab":MAILTO:policylab@law.stanford.edu
END:VEVENT
END:VCALENDAR