BEGIN:VCALENDAR
VERSION:2.0
PRODID:-//Stanford Law School - ECPv6.15.17.1//NONSGML v1.0//EN
CALSCALE:GREGORIAN
METHOD:PUBLISH
X-WR-CALNAME:Stanford Law School
X-ORIGINAL-URL:https://law.stanford.edu
X-WR-CALDESC:Events for Stanford Law School
REFRESH-INTERVAL;VALUE=DURATION:PT1H
X-Robots-Tag:noindex
X-PUBLISHED-TTL:PT1H
BEGIN:VTIMEZONE
TZID:America/Los_Angeles
BEGIN:DAYLIGHT
TZOFFSETFROM:-0800
TZOFFSETTO:-0700
TZNAME:PDT
DTSTART:20250309T100000
END:DAYLIGHT
BEGIN:STANDARD
TZOFFSETFROM:-0700
TZOFFSETTO:-0800
TZNAME:PST
DTSTART:20251102T090000
END:STANDARD
BEGIN:DAYLIGHT
TZOFFSETFROM:-0800
TZOFFSETTO:-0700
TZNAME:PDT
DTSTART:20260308T100000
END:DAYLIGHT
BEGIN:STANDARD
TZOFFSETFROM:-0700
TZOFFSETTO:-0800
TZNAME:PST
DTSTART:20261101T090000
END:STANDARD
BEGIN:DAYLIGHT
TZOFFSETFROM:-0800
TZOFFSETTO:-0700
TZNAME:PDT
DTSTART:20270314T100000
END:DAYLIGHT
BEGIN:STANDARD
TZOFFSETFROM:-0700
TZOFFSETTO:-0800
TZNAME:PST
DTSTART:20271107T090000
END:STANDARD
END:VTIMEZONE
BEGIN:VEVENT
DTSTART;VALUE=DATE:20260417
DTEND;VALUE=DATE:20260418
DTSTAMP:20260420T090542
CREATED:20260325T163125Z
LAST-MODIFIED:20260407T164055Z
UID:562140-1776384000-1776470399@law.stanford.edu
SUMMARY:Generative Legal 2026
DESCRIPTION:Generative Legal is an intimate\, invitation-only gathering bringing together senior in-house counsel and law firm partners\, legal technologists\, investors\, and academics to candidly explore how AI is reshaping legal practice.Co-sponsored by CodeX – the Stanford Center for Legal Informatics and Three Crowns LLP\, the event takes place on April 17 — closing out the 2026 CodeX FutureLaw Week\, the day after the main FutureLaw conference. \nAttendance is complimentary\, but spaces are limited. \nWe expect this program to be most useful to senior leaders at law firms and in-house legal departments. If you’re part of this community… we’d love to hear from you. Request an invitation by emailing tech@law.stanford.edu. \nFor more information\, click here.\n\nhttps://conferences.law.stanford.edu/generative-legal-2026/\n\nThis is a Stanford Law School private/or invitation only event.
URL:https://law.stanford.edu/event/generative-legal-2026/
LOCATION:@ Stanford (TBD)
CATEGORIES:Conferences,Panels,Programs & Centers
END:VEVENT
END:VCALENDAR