BEGIN:VCALENDAR
VERSION:2.0
PRODID:-//Stanford Law School - ECPv6.15.17.1//NONSGML v1.0//EN
CALSCALE:GREGORIAN
METHOD:PUBLISH
X-WR-CALNAME:Stanford Law School
X-ORIGINAL-URL:https://law.stanford.edu
X-WR-CALDESC:Events for Stanford Law School
REFRESH-INTERVAL;VALUE=DURATION:PT1H
X-Robots-Tag:noindex
X-PUBLISHED-TTL:PT1H
BEGIN:VTIMEZONE
TZID:America/Los_Angeles
BEGIN:DAYLIGHT
TZOFFSETFROM:-0800
TZOFFSETTO:-0700
TZNAME:PDT
DTSTART:20250309T100000
END:DAYLIGHT
BEGIN:STANDARD
TZOFFSETFROM:-0700
TZOFFSETTO:-0800
TZNAME:PST
DTSTART:20251102T090000
END:STANDARD
BEGIN:DAYLIGHT
TZOFFSETFROM:-0800
TZOFFSETTO:-0700
TZNAME:PDT
DTSTART:20260308T100000
END:DAYLIGHT
BEGIN:STANDARD
TZOFFSETFROM:-0700
TZOFFSETTO:-0800
TZNAME:PST
DTSTART:20261101T090000
END:STANDARD
BEGIN:DAYLIGHT
TZOFFSETFROM:-0800
TZOFFSETTO:-0700
TZNAME:PDT
DTSTART:20270314T100000
END:DAYLIGHT
BEGIN:STANDARD
TZOFFSETFROM:-0700
TZOFFSETTO:-0800
TZNAME:PST
DTSTART:20271107T090000
END:STANDARD
END:VTIMEZONE
BEGIN:VEVENT
DTSTART;TZID=America/Los_Angeles:20260514T180000
DTEND;TZID=America/Los_Angeles:20260514T203000
DTSTAMP:20260420T180441
CREATED:20250729T205413Z
LAST-MODIFIED:20250729T205413Z
UID:528350-1778781600-1778790600@law.stanford.edu
SUMMARY:Graduating Class Dinner
DESCRIPTION:The Stanford Law School Board of Visitors is delighted to host the Class of 2026 and welcome you all to the SLS alumni community. At this favorite annual tradition\, you’ll hear celebratory remarks while enjoying a delicious dinner with some of most engaged and distinguished alumni\, SLS faculty and your fellow classmates. \n\nGraduating Class Dinner\nBusiness cocktail attire\n\n6:oo p.m. Reception and photo opportunities\n7:00 p.m. Seated dinner with keynote speaker – To Be Announced\n8:30 p.m. Event ends\n\nDon’t miss out on this unforgettable evening!\n\nPlease note that due to limited space\, this dinner is only open to members of the Class of 2026\, and unfortunately we cannot accommodate guests or walk-ins. \nRSVP Link Coming 2026\n\nhttps://law.stanford.edu/event/graduating-class-dinner-2/\n\nThis event is open to the Stanford community.
URL:https://law.stanford.edu/event/graduating-class-dinner-2/
LOCATION:@ Stanford: Paul Brest Hall\, 555 Salvatierra Walk\, Stanford\, CA\, 94305\, United States
CATEGORIES:Social
GEO:37.4231137;-122.1671587
X-APPLE-STRUCTURED-LOCATION;VALUE=URI;X-ADDRESS=@ Stanford: Paul Brest Hall 555 Salvatierra Walk Stanford CA 94305 United States;X-APPLE-RADIUS=500;X-TITLE=555 Salvatierra Walk:geo:-122.1671587,37.4231137
END:VEVENT
END:VCALENDAR