BEGIN:VCALENDAR
VERSION:2.0
PRODID:-//Stanford Law School - ECPv6.15.17.1//NONSGML v1.0//EN
CALSCALE:GREGORIAN
METHOD:PUBLISH
X-WR-CALNAME:Stanford Law School
X-ORIGINAL-URL:https://law.stanford.edu
X-WR-CALDESC:Events for Stanford Law School
REFRESH-INTERVAL;VALUE=DURATION:PT1H
X-Robots-Tag:noindex
X-PUBLISHED-TTL:PT1H
BEGIN:VTIMEZONE
TZID:America/Los_Angeles
BEGIN:DAYLIGHT
TZOFFSETFROM:-0800
TZOFFSETTO:-0700
TZNAME:PDT
DTSTART:20250309T100000
END:DAYLIGHT
BEGIN:STANDARD
TZOFFSETFROM:-0700
TZOFFSETTO:-0800
TZNAME:PST
DTSTART:20251102T090000
END:STANDARD
BEGIN:DAYLIGHT
TZOFFSETFROM:-0800
TZOFFSETTO:-0700
TZNAME:PDT
DTSTART:20260308T100000
END:DAYLIGHT
BEGIN:STANDARD
TZOFFSETFROM:-0700
TZOFFSETTO:-0800
TZNAME:PST
DTSTART:20261101T090000
END:STANDARD
BEGIN:DAYLIGHT
TZOFFSETFROM:-0800
TZOFFSETTO:-0700
TZNAME:PDT
DTSTART:20270314T100000
END:DAYLIGHT
BEGIN:STANDARD
TZOFFSETFROM:-0700
TZOFFSETTO:-0800
TZNAME:PST
DTSTART:20271107T090000
END:STANDARD
END:VTIMEZONE
BEGIN:VEVENT
DTSTART;TZID=America/Los_Angeles:20260415T124500
DTEND;TZID=America/Los_Angeles:20260415T140000
DTSTAMP:20260421T032347
CREATED:20260203T004058Z
LAST-MODIFIED:20260219T165608Z
UID:557198-1776257100-1776261600@law.stanford.edu
SUMMARY:Inside the Trial: Lessons from Shanin Specter’s Landmark Cases
DESCRIPTION:The Deborah L. Rhode Center and the Plaintiffs’ Law Association welcome Shanin Specter\, one of America’s leading trial lawyers and an SLS adjunct\, for a lunch conversation with Professor Nora Freeman Engstrom exploring his most notable cases. Specter will discuss the strategy\, judgment\, and storytelling that define high-stakes litigation\, with particular focus on his recent trial victory in the first verdict arising from the Boeing 737 MAX crash in Ethiopia. Attendees will gain insight into complex trial advocacy\, professional decision-making\, and the vital role of trial in ensuring accountability.\n\nhttps://law.stanford.edu/event/inside-the-trial-lessons-from-shanin-specters-landmark-cases/\n\nThis event is open to the Stanford community.\n\nRegister: https://forms.gle/bgepYK2X2LoPBpMP9
URL:https://law.stanford.edu/event/inside-the-trial-lessons-from-shanin-specters-landmark-cases/
LOCATION:@ SLS: Room 190\, Crown Quadrangle 559 Nathan Abbott Way\, Stanford\, CA\, 94305-8610\, United States
CATEGORIES:Lunchtime Speakers
GEO:37.4135757;-122.1689284
X-APPLE-STRUCTURED-LOCATION;VALUE=URI;X-ADDRESS=@ SLS: Room 190 Crown Quadrangle 559 Nathan Abbott Way Stanford CA 94305-8610 United States;X-APPLE-RADIUS=500;X-TITLE=Crown Quadrangle 559 Nathan Abbott Way:geo:-122.1689284,37.4135757
END:VEVENT
END:VCALENDAR