BEGIN:VCALENDAR
VERSION:2.0
PRODID:-//Stanford Law School - ECPv6.15.17.1//NONSGML v1.0//EN
CALSCALE:GREGORIAN
METHOD:PUBLISH
X-WR-CALNAME:Stanford Law School
X-ORIGINAL-URL:https://law.stanford.edu
X-WR-CALDESC:Events for Stanford Law School
REFRESH-INTERVAL;VALUE=DURATION:PT1H
X-Robots-Tag:noindex
X-PUBLISHED-TTL:PT1H
BEGIN:VTIMEZONE
TZID:America/Los_Angeles
BEGIN:DAYLIGHT
TZOFFSETFROM:-0800
TZOFFSETTO:-0700
TZNAME:PDT
DTSTART:20250309T100000
END:DAYLIGHT
BEGIN:STANDARD
TZOFFSETFROM:-0700
TZOFFSETTO:-0800
TZNAME:PST
DTSTART:20251102T090000
END:STANDARD
BEGIN:DAYLIGHT
TZOFFSETFROM:-0800
TZOFFSETTO:-0700
TZNAME:PDT
DTSTART:20260308T100000
END:DAYLIGHT
BEGIN:STANDARD
TZOFFSETFROM:-0700
TZOFFSETTO:-0800
TZNAME:PST
DTSTART:20261101T090000
END:STANDARD
BEGIN:DAYLIGHT
TZOFFSETFROM:-0800
TZOFFSETTO:-0700
TZNAME:PDT
DTSTART:20270314T100000
END:DAYLIGHT
BEGIN:STANDARD
TZOFFSETFROM:-0700
TZOFFSETTO:-0800
TZNAME:PST
DTSTART:20271107T090000
END:STANDARD
END:VTIMEZONE
BEGIN:VEVENT
DTSTART;TZID=America/Los_Angeles:20260428T130000
DTEND;TZID=America/Los_Angeles:20260428T134500
DTSTAMP:20260424T155105
CREATED:20260410T005529Z
LAST-MODIFIED:20260410T014917Z
UID:563884-1777381200-1777383900@law.stanford.edu
SUMMARY:Mindfulness Meditation with Professor Ron Tyler
DESCRIPTION:Weekly mindfulness meditation on Tuesdays\, 1:00-1:45 pm in the Circle Sanctuary (Old Union\, 3rd floor)\, April 7 through June 2. All are welcome\, no matter background or experience.\n\nhttps://law.stanford.edu/event/mindfulness-meditation-with-professor-ron-tyler-3/\n\nThis event is open to the Stanford community.
URL:https://law.stanford.edu/event/mindfulness-meditation-with-professor-ron-tyler-3/
LOCATION:@ Stanford Center for Inter-Religious Community\, Learning and Experiences (CIRCLE)\, Old Union\, 520 Lasuen Mall\, 3rd Floor\, Stanford\, CA\, 94305
CATEGORIES:Wellness
END:VEVENT
END:VCALENDAR