BEGIN:VCALENDAR
VERSION:2.0
PRODID:-//Stanford Law School - ECPv6.15.17.1//NONSGML v1.0//EN
CALSCALE:GREGORIAN
METHOD:PUBLISH
X-WR-CALNAME:Stanford Law School
X-ORIGINAL-URL:https://law.stanford.edu
X-WR-CALDESC:Events for Stanford Law School
REFRESH-INTERVAL;VALUE=DURATION:PT1H
X-Robots-Tag:noindex
X-PUBLISHED-TTL:PT1H
BEGIN:VTIMEZONE
TZID:America/Los_Angeles
BEGIN:DAYLIGHT
TZOFFSETFROM:-0800
TZOFFSETTO:-0700
TZNAME:PDT
DTSTART:20250309T100000
END:DAYLIGHT
BEGIN:STANDARD
TZOFFSETFROM:-0700
TZOFFSETTO:-0800
TZNAME:PST
DTSTART:20251102T090000
END:STANDARD
BEGIN:DAYLIGHT
TZOFFSETFROM:-0800
TZOFFSETTO:-0700
TZNAME:PDT
DTSTART:20260308T100000
END:DAYLIGHT
BEGIN:STANDARD
TZOFFSETFROM:-0700
TZOFFSETTO:-0800
TZNAME:PST
DTSTART:20261101T090000
END:STANDARD
BEGIN:DAYLIGHT
TZOFFSETFROM:-0800
TZOFFSETTO:-0700
TZNAME:PDT
DTSTART:20270314T100000
END:DAYLIGHT
BEGIN:STANDARD
TZOFFSETFROM:-0700
TZOFFSETTO:-0800
TZNAME:PST
DTSTART:20271107T090000
END:STANDARD
END:VTIMEZONE
BEGIN:VEVENT
DTSTART;TZID=America/Los_Angeles:20260415T083000
DTEND;TZID=America/Los_Angeles:20260415T113000
DTSTAMP:20260423T003747
CREATED:20260325T165015Z
LAST-MODIFIED:20260325T165131Z
UID:562144-1776241800-1776252600@law.stanford.edu
SUMMARY:Rules\, Patterns\, and Hybrids
DESCRIPTION:Our goal is to initiate a conversation around a foundational divide in artificial intelligence: the relationship between rule-based (deterministic) systems and the probabilistic (pattern-driven) systems underlying most machine learning. This dichotomy is often assumed – and even bridged through neuro-symbolic strategies\, but it is only rarely explicitly interrogated. We believe that this divide is not just a matter of current IT strategy in legaltech and other applications; it shapes the structure of many decision-making systems\, including traditional jurisprudence and human cognition. \nOur discussion will range from exploring the theoretical basis for using the different strategies as decision making tools\, through practical considerations such as development and implementation costs and impacts\, and on to examples of specific applications that choose and blend the core strategies.  The session will be guided as it progresses through these topics but will not have formal panels or speakers. This conversation is intended to be a starting point\, allowing experts in different pieces of this inquiry to share knowledge and find connections that can help advance our understanding of these critical foundations of contemporary life. Through this exchange\, we hope to spark collaborations\, research initiatives\, and projects that deepen our understanding of how these systems shape modern decision-making. \nOrganizers: \n Jeannette Eicks\, Associate Dean and Professor Law\, The Colleges of Law\nOliver Goodenough\, Stanford CodeX Affiliate\, Research Professor\, Vermont Law and Graduate School and Senior Lecturer\, Thayer School of Engineering at Dartmouth College\n\nhttps://law.stanford.edu/event/rules-patterns-and-hybrids/\n\nThis is a Stanford Law School private/or invitation only event.\n\nRequest invitation here: https://docs.google.com/forms/d/e/1FAIpQLSdywRXwmTljD5gTo_hShNt2twegiy11zi1YY5dov_wIXsvu1w/viewform
URL:https://law.stanford.edu/event/rules-patterns-and-hybrids/
LOCATION:@ Stanford: Paul Brest Hall\, 555 Salvatierra Walk\, Stanford\, CA\, 94305\, United States
CATEGORIES:Conferences,Meetings,Programs & Centers
GEO:37.4231137;-122.1671587
X-APPLE-STRUCTURED-LOCATION;VALUE=URI;X-ADDRESS=@ Stanford: Paul Brest Hall 555 Salvatierra Walk Stanford CA 94305 United States;X-APPLE-RADIUS=500;X-TITLE=555 Salvatierra Walk:geo:-122.1671587,37.4231137
END:VEVENT
END:VCALENDAR