BEGIN:VCALENDAR
VERSION:2.0
PRODID:-//Stanford Law School - ECPv6.15.17.1//NONSGML v1.0//EN
CALSCALE:GREGORIAN
METHOD:PUBLISH
X-WR-CALNAME:Stanford Law School
X-ORIGINAL-URL:https://law.stanford.edu
X-WR-CALDESC:Events for Stanford Law School
REFRESH-INTERVAL;VALUE=DURATION:PT1H
X-Robots-Tag:noindex
X-PUBLISHED-TTL:PT1H
BEGIN:VTIMEZONE
TZID:America/Los_Angeles
BEGIN:DAYLIGHT
TZOFFSETFROM:-0800
TZOFFSETTO:-0700
TZNAME:PDT
DTSTART:20250309T100000
END:DAYLIGHT
BEGIN:STANDARD
TZOFFSETFROM:-0700
TZOFFSETTO:-0800
TZNAME:PST
DTSTART:20251102T090000
END:STANDARD
BEGIN:DAYLIGHT
TZOFFSETFROM:-0800
TZOFFSETTO:-0700
TZNAME:PDT
DTSTART:20260308T100000
END:DAYLIGHT
BEGIN:STANDARD
TZOFFSETFROM:-0700
TZOFFSETTO:-0800
TZNAME:PST
DTSTART:20261101T090000
END:STANDARD
BEGIN:DAYLIGHT
TZOFFSETFROM:-0800
TZOFFSETTO:-0700
TZNAME:PDT
DTSTART:20270314T100000
END:DAYLIGHT
BEGIN:STANDARD
TZOFFSETFROM:-0700
TZOFFSETTO:-0800
TZNAME:PST
DTSTART:20271107T090000
END:STANDARD
END:VTIMEZONE
BEGIN:VEVENT
DTSTART;TZID=America/Los_Angeles:20260507T170000
DTEND;TZID=America/Los_Angeles:20260507T180000
DTSTAMP:20260425T180704
CREATED:20260406T192235Z
LAST-MODIFIED:20260420T230831Z
UID:563273-1778173200-1778176800@law.stanford.edu
SUMMARY:The Trump Presidency and the Rule of Law
DESCRIPTION:This panel brings together leading constitutional scholars to discuss executive power and its relationship to the rule of law in the contemporary United States. Using the presidency of Donald Trump as a general point of reference\, the conversation will explore how executive authority is defined\, exercised\, and constrained within the constitutional system. Panelists will reflect on the interaction between the presidency and other institutions\, including courts and Congress. The discussion will be open-ended\, engaging with broader questions about constitutional limits\, the conditions under which executive power expands or contracts\, and the challenges of maintaining accountability in periods of political polarization. There will be dedicated time for Q&A.\n\nhttps://law.stanford.edu/event/the-trump-presidency-and-the-rule-of-law/\n\nThis event is open to the public.\n\nRegister Today!: https://forms.gle/qba9qt6VT2nHKMY76
URL:https://law.stanford.edu/event/the-trump-presidency-and-the-rule-of-law/
LOCATION:@ SLS: Room 270\, Crown Quadrangle\, 559 Nathan Abbott Way\, Stanford\, CA\, 94305-8610\, United States
CATEGORIES:Programs & Centers
END:VEVENT
END:VCALENDAR