BEGIN:VCALENDAR
VERSION:2.0
PRODID:-//Stanford Law School - ECPv6.15.17.1//NONSGML v1.0//EN
CALSCALE:GREGORIAN
METHOD:PUBLISH
X-ORIGINAL-URL:https://law.stanford.edu
X-WR-CALDESC:Events for Stanford Law School
REFRESH-INTERVAL;VALUE=DURATION:PT1H
X-Robots-Tag:noindex
X-PUBLISHED-TTL:PT1H
BEGIN:VTIMEZONE
TZID:America/Los_Angeles
BEGIN:DAYLIGHT
TZOFFSETFROM:-0800
TZOFFSETTO:-0700
TZNAME:PDT
DTSTART:20240310T100000
END:DAYLIGHT
BEGIN:STANDARD
TZOFFSETFROM:-0700
TZOFFSETTO:-0800
TZNAME:PST
DTSTART:20241103T090000
END:STANDARD
BEGIN:DAYLIGHT
TZOFFSETFROM:-0800
TZOFFSETTO:-0700
TZNAME:PDT
DTSTART:20250309T100000
END:DAYLIGHT
BEGIN:STANDARD
TZOFFSETFROM:-0700
TZOFFSETTO:-0800
TZNAME:PST
DTSTART:20251102T090000
END:STANDARD
BEGIN:DAYLIGHT
TZOFFSETFROM:-0800
TZOFFSETTO:-0700
TZNAME:PDT
DTSTART:20260308T100000
END:DAYLIGHT
BEGIN:STANDARD
TZOFFSETFROM:-0700
TZOFFSETTO:-0800
TZNAME:PST
DTSTART:20261101T090000
END:STANDARD
BEGIN:DAYLIGHT
TZOFFSETFROM:-0800
TZOFFSETTO:-0700
TZNAME:PDT
DTSTART:20270314T100000
END:DAYLIGHT
BEGIN:STANDARD
TZOFFSETFROM:-0700
TZOFFSETTO:-0800
TZNAME:PST
DTSTART:20271107T090000
END:STANDARD
END:VTIMEZONE
BEGIN:VEVENT
DTSTART;TZID=America/Los_Angeles:20260417T130000
DTEND;TZID=America/Los_Angeles:20260417T150000
DTSTAMP:20260421T040554
CREATED:20260302T192910Z
LAST-MODIFIED:20260302T192910Z
UID:10002769-1776430800-1776438000@law.stanford.edu
SUMMARY:'26 Graduation Oval Picnic
DESCRIPTION:Join the graduating class for a casual picnic on the Oval!\n\nhttps://law.stanford.edu/event/26-graduation-oval-picnic/\n\nThis is a Stanford Law School community event.\n\nPartiful RSVP: https://partiful.com/e/6XNctZF1fk52LY3hibba?c=SfLoVwy5
URL:https://law.stanford.edu/event/26-graduation-oval-picnic/
LOCATION:@ Stanford (TBD)
CATEGORIES:Social
END:VEVENT
BEGIN:VEVENT
DTSTART;TZID=America/Los_Angeles:20260213T190000
DTEND;TZID=America/Los_Angeles:20260213T220000
DTSTAMP:20260421T040554
CREATED:20251017T222938Z
LAST-MODIFIED:20251027T230403Z
UID:10002397-1771009200-1771020000@law.stanford.edu
SUMMARY:SLA Talent Show
DESCRIPTION:Join SLA for a night celebrating the incredible talents of the SLS community. Come by to support your friends or perform yourself! Those interested in taking part in the show should contact jmcspedo@stanford.edu. In the past\, students have sung\, played instruments\, done stand-up or sketch comedy routines\, etc. be as creative as you like!\n\nhttps://law.stanford.edu/event/sla-talent-show/\n\nThis is a Stanford Law School private/or invitation only event.
URL:https://law.stanford.edu/event/sla-talent-show/
LOCATION:@ SLS: Russo Commons – Student Law Lounge\, 559 Nathan Abbott Way\, Stanford\, CA\, 94305-8610\, United States
CATEGORIES:Social
GEO:37.4235115;-122.1680741
X-APPLE-STRUCTURED-LOCATION;VALUE=URI;X-ADDRESS=@ SLS: Russo Commons – Student Law Lounge 559 Nathan Abbott Way Stanford CA 94305-8610 United States;X-APPLE-RADIUS=500;X-TITLE=559 Nathan Abbott Way:geo:-122.1680741,37.4235115
END:VEVENT
BEGIN:VEVENT
DTSTART;TZID=America/Los_Angeles:20251101T200000
DTEND;TZID=America/Los_Angeles:20251101T235900
DTSTAMP:20260421T040554
CREATED:20250722T163300Z
LAST-MODIFIED:20250917T005348Z
UID:10002072-1762027200-1762041540@law.stanford.edu
SUMMARY:SLA Halloween Party
DESCRIPTION:Annual SLA Halloween Party in Crocker!\n\nhttps://law.stanford.edu/event/sla-halloween-party/\n\nThis is a Stanford Law School private/or invitation only event.
URL:https://law.stanford.edu/event/sla-halloween-party/
LOCATION:@ SLS: Russo Commons – Student Law Lounge\, 559 Nathan Abbott Way\, Stanford\, CA\, 94305-8610\, United States
CATEGORIES:Social
GEO:37.4235115;-122.1680741
X-APPLE-STRUCTURED-LOCATION;VALUE=URI;X-ADDRESS=@ SLS: Russo Commons – Student Law Lounge 559 Nathan Abbott Way Stanford CA 94305-8610 United States;X-APPLE-RADIUS=500;X-TITLE=559 Nathan Abbott Way:geo:-122.1680741,37.4235115
END:VEVENT
BEGIN:VEVENT
DTSTART;TZID=America/Los_Angeles:20251010T170000
DTEND;TZID=America/Los_Angeles:20251010T200000
DTSTAMP:20260421T040554
CREATED:20250925T192512Z
LAST-MODIFIED:20250925T192512Z
UID:10002287-1760115600-1760126400@law.stanford.edu
SUMMARY:Annual 1L Section Kickball Tournament
DESCRIPTION:The first 1L event of the year is upon us! Rally your section and come out to Wilbur Field for an evening of sports and bonding. There will be drinks and food! There is NO cap for number of players per team.\n\nhttps://law.stanford.edu/event/annual-1l-section-kickball-tournament/\n\nThis is a Stanford Law School private/or invitation only event.\n\nSign-up Here!: https://docs.google.com/spreadsheets/d/1Ub8BjWlZUHVJgGbPrO4LQGgsKBbcDtJaJSw8sxpdQ3U/edit?usp=sharing
URL:https://law.stanford.edu/event/annual-1l-section-kickball-tournament/
LOCATION:@ Stanford: Wilbur Field\, 560 Wilbur Way\, Stanford\, CA\, 94305\, United States
CATEGORIES:Social
END:VEVENT
BEGIN:VEVENT
DTSTART;TZID=America/Los_Angeles:20250930T124500
DTEND;TZID=America/Los_Angeles:20250930T135000
DTSTAMP:20260421T040554
CREATED:20250902T212105Z
LAST-MODIFIED:20250902T212105Z
UID:10002128-1759236300-1759240200@law.stanford.edu
SUMMARY:1L/2L/3L Private Sector Recruitment Mixer
DESCRIPTION:1Ls come speak with 2 and 3Ls who navigated the private firm hiring process—a variety of firm types and geographies will be represented. Get advice from your peers about how best to manage firm recruitment\, networking\, and OCI!\n\nhttps://law.stanford.edu/event/1l-2l-3l-private-sector-recruitment-mixer/\n\nThis is a Stanford Law School private/or invitation only event.\n\nRSVP: https://docs.google.com/forms/d/e/1FAIpQLSck0p5M5CgOXWyikpEpdgQ0V5sDBimcBIkfR2q0-et7gnbH0A/viewform?usp=header
URL:https://law.stanford.edu/event/1l-2l-3l-private-sector-recruitment-mixer/
LOCATION:@ SLS: Room 290\, 559 Nathan Abbott Way\, Stanford\, CA\, 94305-8610\, United States
CATEGORIES:Programs & Centers,Student Organizations
GEO:37.4135757;-122.1689284
X-APPLE-STRUCTURED-LOCATION;VALUE=URI;X-ADDRESS=@ SLS: Room 290 559 Nathan Abbott Way Stanford CA 94305-8610 United States;X-APPLE-RADIUS=500;X-TITLE=559 Nathan Abbott Way:geo:-122.1689284,37.4135757
END:VEVENT
END:VCALENDAR